BEGIN:VCALENDAR
VERSION:2.0
PRODID:-//Sophicity/Tribune/Lithonia, GA
BEGIN:VEVENT
DTSTAMP:20260423T210618Z
UID:bc90973f-9ce3-420f-8b90-a9282563f984-3740
DTSTART:20210828T160000Z
DTEND:20210828T200000Z
LOCATION:Lithonia Market on Main
CLASS:PUBLIC
SUMMARY:Lithonia Market on Main	
END:VEVENT
END:VCALENDAR
