BEGIN:VCALENDAR
VERSION:2.0
PRODID:-//Sophicity/Tribune/Lithonia, GA
BEGIN:VEVENT
DTSTAMP:20260423T193405Z
UID:bc90973f-9ce3-420f-8b90-a9282563f984-3737
DTSTART:20210723T210000Z
DTEND:20210724T010000Z
LOCATION:LITHONIA AMPHITHEATER
CLASS:PUBLIC
SUMMARY:Friday Night Wind Up
END:VEVENT
END:VCALENDAR
