BEGIN:VCALENDAR
VERSION:2.0
PRODID:-//Sophicity/Tribune/Lithonia, GA
BEGIN:VEVENT
DTSTAMP:20260423T180003Z
UID:bc90973f-9ce3-420f-8b90-a9282563f984-3736
DTSTART:20210704T180000Z
DTEND:20210705T023000Z
LOCATION:LITHONIA AMPHITHEATER
CLASS:PUBLIC
SUMMARY:Lithonia's Southern Soul Festival
END:VEVENT
END:VCALENDAR
