BEGIN:VCALENDAR
VERSION:2.0
PRODID:-//Sophicity/Tribune/Lithonia, GA
BEGIN:VEVENT
DTSTAMP:20260423T193407Z
UID:bc90973f-9ce3-420f-8b90-a9282563f984-3686
DTSTART:20211220T223000Z
DTEND:20211220T233000Z
CLASS:PUBLIC
SUMMARY:Work Session Meeting	
END:VEVENT
END:VCALENDAR
