BEGIN:VCALENDAR
VERSION:2.0
PRODID:-//Sophicity/Tribune/Lithonia, GA
BEGIN:VEVENT
DTSTAMP:20260423T223329Z
UID:bc90973f-9ce3-420f-8b90-a9282563f984-3684
DTSTART:20211018T213000Z
DTEND:20211018T223000Z
CLASS:PUBLIC
SUMMARY:City Council Meeting	
END:VEVENT
END:VCALENDAR
