BEGIN:VCALENDAR
VERSION:2.0
PRODID:-//Sophicity/Tribune/Lithonia, GA
BEGIN:VEVENT
DTSTAMP:20260423T193534Z
UID:bc90973f-9ce3-420f-8b90-a9282563f984-3681
DTSTART:20210719T213000Z
DTEND:20210719T223000Z
CLASS:PUBLIC
SUMMARY:Work Session Meeting	
END:VEVENT
END:VCALENDAR
