BEGIN:VCALENDAR
VERSION:2.0
PRODID:-//Sophicity/Tribune/Lithonia, GA
BEGIN:VEVENT
DTSTAMP:20260423T162748Z
UID:bc90973f-9ce3-420f-8b90-a9282563f984-3678
DTSTART:20210315T213000Z
DTEND:20210315T223000Z
CLASS:PUBLIC
SUMMARY:Council Work Session
END:VEVENT
END:VCALENDAR
