BEGIN:VCALENDAR
VERSION:2.0
PRODID:-//Sophicity/Tribune/Lithonia, GA
BEGIN:VEVENT
DTSTAMP:20260423T193444Z
UID:bc90973f-9ce3-420f-8b90-a9282563f984-3675
DTSTART:20210119T223000Z
DTEND:20210119T233000Z
CLASS:PUBLIC
SUMMARY:Council Work Session
END:VEVENT
END:VCALENDAR
