BEGIN:VCALENDAR
VERSION:2.0
PRODID:-//Sophicity/Tribune/Lithonia, GA
BEGIN:VEVENT
DTSTAMP:20260423T150319Z
UID:bc90973f-9ce3-420f-8b90-a9282563f984-3669
DTSTART:20210503T213000Z
DTEND:20210503T223000Z
CLASS:PUBLIC
SUMMARY:City Council Meeting
END:VEVENT
END:VCALENDAR
