BEGIN:VCALENDAR
VERSION:2.0
PRODID:-//Sophicity/Tribune/Lithonia, GA
BEGIN:VEVENT
DTSTAMP:20260423T180003Z
UID:bc90973f-9ce3-420f-8b90-a9282563f984-3663
DTSTART:20210607T213000Z
DTEND:20210607T223000Z
CLASS:PUBLIC
SUMMARY:City Council Meeting
END:VEVENT
END:VCALENDAR
